Workbook

Sheet Os vba
A4: Oppsummering vannkvalitet Os vba
A6: Alle forsyningsområder | D6: Mai 2020
A8: Bakteriologisk drikkevannskvalitet
A9: Parameter | B9: Grenseverdi | C9: Tiltaksgrense | D9: Antall analyser | E9: Antall godkjente
A10: E.Coli (ant/100 ml) | B10: 0 | D10: =COUNT(H24:H90) -> 21 | E10: =COUNTIF(H24:H90,"=0") -> 21
A11: Intestinale enterokokker (ant/100 ml) | B11: 0 | D11: =COUNT(I24:I90) -> 21 | E11: =COUNTIF(I24:I90,"=0") -> 21
A12: Koliforme bakterier (ant/100 ml) | C12: 0 | D12: =COUNT(G24:G90) -> 21 | E12: =COUNTIF(G24:G90,"=0") -> 21
A14: Fysisk-/kjemisk drikkevannskvalitet
A15: Parameter | B15: Grenseverdi | C15: Tiltaksgrense | D15: Antall analyser | E15: Resultat gjennomsnitt
A16: Farge (mg Pt/l) | B16: Akseptabel for abb, maks 20 | C16: Ingen unormal endring | D16: =COUNT(F24:F90) -> 21 | E16: =AVERAGE(F24:F90) -> 2.0952381
A17: Turbiditet (FNU) | B17: Vba: 1, Nett: Akseptabel for abb. | C17: Ingen unormal endring | D17: =COUNT(E24:E90) -> 21 | E17: =AVERAGE(E24:E90) -> 0.24857143
A18: Surhetsgrad (pH) | C18: 6,5 - 9,5 | D18: =COUNT(D24:D90) -> 21 | E18: =AVERAGE(D24:D90) -> 7.5714286
A19: Merknad
A23: Sted | B23: Dato | C23: Vannbehandlingsanlegg | D23: pH | E23: Turbiditet | F23: Fargetall | G23: Koliforme bakterier | H23: E.Coli | I23: Intestinale enterokokker
A24: Os vba, rentvann | B24: 43956 | C24: Os VBA | D24: 6.6 | E24: 0.12 | F24: 2 | G24: 0 | H24: 0 | I24: 0
B25: 43963 | C25: Os VBA | D25: 7.3 | E25: 0.1 | F25: 2 | G25: 0 | H25: 0 | I25: 0
B26: 43969 | C26: Os VBA | D26: 7.3 | E26: 0.11 | F26: 2 | G26: 0 | H26: 0 | I26: 0
B27: 43977 | C27: Os VBA | D27: 6.9 | E27: 0.12 | F27: 2 | G27: 0 | H27: 0 | I27: 0
A28: Varåsen basseng, ut | B28: 43956 | C28: Os VBA | D28: 7.3 | E28: 0.12 | F28: 2 | G28: 0 | H28: 0 | I28: 0
B29: 43969 | C29: Os VBA | D29: 7.2 | E29: 0.1 | F29: 2 | G29: 0 | H29: 0 | I29: 0
A30: Os helsestasjon | B30: 43956 | C30: Os VBA | D30: 7.3 | E30: 0.1 | F30: 2 | G30: 0 | H30: 0 | I30: 0
B31: 43963 | C31: Os VBA | D31: 7.2 | E31: 0.11 | F31: 2 | G31: 0 | H31: 0 | I31: 0
B32: 43969 | C32: Os VBA | D32: 7.3 | E32: 0.12 | F32: 2 | G32: 0 | H32: 0 | I32: 0
B33: 43977 | C33: Os VBA | D33: 7.1 | E33: 0.1 | F33: 2 | G33: 0 | H33: 0 | I33: 0
A34: Sankthanshaugen basseng | B34: 43977 | C34: Os VBA | D34: 7.6 | E34: 0.24 | F34: 4 | G34: 0 | H34: 0 | I34: 0
A35: Luranetunet | B35: 43977 | C35: Os VBA | D35: 7.6 | E35: 0.12 | F35: 2 | G35: 0 | H35: 0 | I35: 0
A36: Bjørnen basseng | B36: 43969 | C36: Os VBA | D36: 8.4 | E36: 0.11 | F36: 2 | G36: 0 | H36: 0 | I36: 0
A37: Sundøy (Triton) | B37: 43956 | C37: Os VBA | D37: 8 | E37: 0.1 | F37: 2 | G37: 0 | H37: 0 | I37: 0
B38: 43969 | C38: Os VBA | D38: 8.6 | E38: 0.11 | F38: 2 | G38: 0 | H38: 0 | I38: 0
A39: Hagavik kysthospital | B39: 43956 | C39: Os VBA | D39: 8.2 | E39: 0.1 | F39: 2 | G39: 0 | H39: 0 | I39: 0
B40: 43963 | C40: Os VBA | D40: 8.1 | E40: 0.13 | F40: 2 | G40: 0 | H40: 0 | I40: 0
B41: 43969 | C41: Os VBA | D41: 8.2 | E41: 0.1 | F41: 2 | G41: 0 | H41: 0 | I41: 0
B42: 43977 | C42: Os VBA | D42: 7.4 | E42: 0.11 | F42: 2 | G42: 0 | H42: 0 | I42: 0
A43: Askvik basseng | B43: 43963 | C43: Os VBA | D43: 8.2 | E43: 2.3 | F43: 2 | G43: 0 | H43: 0 | I43: 0
A44: Tømmernes bro | B44: 43956 | C44: Os VBA | D44: 7.2 | E44: 0.7 | F44: 2 | G44: 0 | H44: 0 | I44: 0

Sheet Søvik vba
A4: Oppsummering vannkvalitet Søvik vba
A6: Alle forsyningsområder | D6: ='Os vba'!D6 -> Mai 2020
A8: Bakteriologisk drikkevannskvalitet
A9: Parameter | B9: Grenseverdi | C9: Tiltaksgrense | D9: Antall analyser | E9: Antall godkjente
A10: E.Coli (ant/100 ml) | B10: 0 | D10: =COUNT(H24:H90) -> 4 | E10: =COUNTIF(H24:H90,"=0") -> 4
A11: Intestinale enterokokker (ant/100 ml) | B11: 0 | D11: =COUNT(I24:I90) -> 4 | E11: =COUNTIF(I24:I90,"=0") -> 4
A12: Koliforme bakterier (ant/100 ml) | C12: 0 | D12: =COUNT(G24:G90) -> 4 | E12: =COUNTIF(G24:G90,"=0") -> 4
A14: Fysisk-/kjemisk drikkevannskvalitet
A15: Parameter | B15: Grenseverdi | C15: Tiltaksgrense | D15: Antall analyser | E15: Resultat gjennomsnitt
A16: Farge (mg Pt/l) | B16: Akseptabel for abb, maks 20 | C16: Ingen unormal endring | D16: =COUNT(F24:F90) -> 4 | E16: =AVERAGE(F24:F90) -> 12
A17: Turbiditet (FNU) | B17: Vba: 1, Nett: Akseptabel for abb. | C17: Ingen unormal endring | D17: =COUNT(E24:E90) -> 4 | E17: =AVERAGE(E24:E90) -> 0.25
A18: Surhetsgrad (pH) | C18: 6,5 - 9,5 | D18: =COUNT(D24:D90) -> 4 | E18: =AVERAGE(D24:D90) -> 7.325
A19: Merknad
A23: Sted | B23: Dato | C23: Vannbehandlingsanlegg | D23: pH | E23: Turbiditet | F23: Fargetall | G23: Koliforme bakterier | H23: E.Coli | I23: Intestinale enterokokker
A24: Lysekloster barnehage | B24: 43956 | C24: Søvik VBA | D24: 7 | E24: 0.24 | F24: 12 | G24: 0 | H24: 0 | I24: 0
B25: 43963 | C25: Søvik VBA | D25: 8.5 | E25: 0.26 | F25: 13 | G25: 0 | H25: 0 | I25: 0
B26: 43969 | C26: Søvik VBA | D26: 6.9 | E26: 0.24 | F26: 12 | G26: 0 | H26: 0 | I26: 0
B27: 43977 | C27: Søvik VBA | D27: 6.9 | E27: 0.26 | F27: 11 | G27: 0 | H27: 0 | I27: 0

Sheet Hegglandsdalen vba
A4: Oppsummering vannkvalitet Hegglandsdalen vba
A6: Alle forsyningsområder | D6: ='Os vba'!D6 -> Mai 2020
A8: Bakteriologisk drikkevannskvalitet
A9: Parameter | B9: Grenseverdi | C9: Tiltaksgrense | D9: Antall analyser | E9: Antall godkjente
A10: E.Coli (ant/100 ml) | B10: 0 | D10: =COUNT(H24:H90) -> 1 | E10: =COUNTIF(H24:H90,"=0") -> 1
A11: Intestinale enterokokker (ant/100 ml) | B11: 0 | D11: =COUNT(I24:I90) -> 1 | E11: =COUNTIF(I24:I90,"=0") -> 1
A12: Koliforme bakterier (ant/100 ml) | C12: 0 | D12: =COUNT(G24:G90) -> 1 | E12: =COUNTIF(G24:G90,"=0") -> 1
A14: Fysisk-/kjemisk drikkevannskvalitet
A15: Parameter | B15: Grenseverdi | C15: Tiltaksgrense | D15: Antall analyser | E15: Resultat gjennomsnitt
A16: Farge (mg Pt/l) | B16: Akseptabel for abb, maks 20 | C16: Ingen unormal endring | D16: =COUNT(F24:F90) -> 1 | E16: =AVERAGE(F24:F90) -> 2
A17: Turbiditet (FNU) | B17: Vba: 1, Nett: Akseptabel for abb. | C17: Ingen unormal endring | D17: =COUNT(E24:E90) -> 1 | E17: =AVERAGE(E24:E90) -> 0.15
A18: Surhetsgrad (pH) | C18: 6,5 - 9,5 | D18: =COUNT(D24:D90) -> 1 | E18: =AVERAGE(D24:D90) -> 7.7
A19: Merknad
A23: Sted | B23: Dato | C23: Vannbehandlingsanlegg | D23: pH | E23: Turbiditet | F23: Fargetall | G23: Koliforme bakterier | H23: E.Coli | I23: Intestinale enterokokker
A24: Hegglandsdalen skole,rentvann | B24: 43977 | C24: Hegglandsdalen | D24: 7.7 | E24: 0.15 | F24: 2 | G24: 0 | H24: 0 | I24: 0

Sheet Helland vba
A4: Oppsummering vannkvalitet Helland vba
A6: Alle forsyningsområder | D6: ='Os vba'!D6 -> Mai 2020
A8: Bakteriologisk drikkevannskvalitet
A9: Parameter | B9: Grenseverdi | C9: Tiltaksgrense | D9: Antall analyser | E9: Antall godkjente
A10: E.Coli (ant/100 ml) | B10: 0 | D10: =COUNT(H24:H90) -> 1 | E10: =COUNTIF(H24:H90,"=0") -> 1
A11: Intestinale enterokokker (ant/100 ml) | B11: 0 | D11: =COUNT(I24:I90) -> 1 | E11: =COUNTIF(I24:I90,"=0") -> 1
A12: Koliforme bakterier (ant/100 ml) | C12: 0 | D12: =COUNT(G24:G90) -> 1 | E12: =COUNTIF(G24:G90,"=0") -> 1
A14: Fysisk-/kjemisk drikkevannskvalitet
A15: Parameter | B15: Grenseverdi | C15: Tiltaksgrense | D15: Antall analyser | E15: Resultat gjennomsnitt
A16: Farge (mg Pt/l) | B16: Akseptabel for abb, maks 20 | C16: Ingen unormal endring | D16: =COUNT(F24:F90) -> 1 | E16: =AVERAGE(F24:F90) -> 2
A17: Turbiditet (FNU) | B17: Vba: 1, Nett: Akseptabel for abb. | C17: Ingen unormal endring | D17: =COUNT(E24:E90) -> 1 | E17: =AVERAGE(E24:E90) -> 0.1
A18: Surhetsgrad (pH) | C18: 6,5 - 9,5 | D18: =COUNT(D24:D90) -> 1 | E18: =AVERAGE(D24:D90) -> 9.4
A19: Merknad
A23: Sted | B23: Dato | C23: Vannbehandlingsanlegg | D23: pH | E23: Turbiditet | F23: Fargetall | G23: Koliforme bakterier | H23: E.Coli | I23: Intestinale enterokokker
A24: Fusa Mekaniske | B24: 43956 | C24: Eikelandsosen VV, Helland | D24: 9.4 | E24: 0.1 | F24: 2 | G24: 0 | H24: 0 | I24: 0

Sheet Skjelbreid vba
A4: Oppsummering vannkvalitet Holmefjord vba
A6: Alle forsyningsområder | D6: ='Os vba'!D6 -> Mai 2020
A8: Bakteriologisk drikkevannskvalitet
A9: Parameter | B9: Grenseverdi | C9: Tiltaksgrense | D9: Antall analyser | E9: Antall godkjente
A10: E.Coli (ant/100 ml) | B10: 0 | D10: =COUNT(H24:H90) -> 2 | E10: =COUNTIF(H24:H90,"=0") -> 2
A11: Intestinale enterokokker (ant/100 ml) | B11: 0 | D11: =COUNT(I24:I90) -> 2 | E11: =COUNTIF(I24:I90,"=0") -> 2
A12: Koliforme bakterier (ant/100 ml) | C12: 0 | D12: =COUNT(G24:G90) -> 2 | E12: =COUNTIF(G24:G90,"=0") -> 2
A14: Fysisk-/kjemisk drikkevannskvalitet
A15: Parameter | B15: Grenseverdi | C15: Tiltaksgrense | D15: Antall analyser | E15: Resultat gjennomsnitt
A16: Farge (mg Pt/l) | B16: Akseptabel for abb, maks 20 | C16: Ingen unormal endring | D16: =COUNT(F24:F90) -> 2 | E16: =AVERAGE(F24:F90) -> 2
A17: Turbiditet (FNU) | B17: Vba: 1, Nett: Akseptabel for abb. | C17: Ingen unormal endring | D17: =COUNT(E24:E90) -> 2 | E17: =AVERAGE(E24:E90) -> 0.1
A18: Surhetsgrad (pH) | C18: 6,5 - 9,5 | D18: =COUNT(D24:D90) -> 2 | E18: =AVERAGE(D24:D90) -> 7.9
A19: Merknad
A23: Sted | B23: Dato | C23: Vannbehandlingsanlegg | D23: pH | E23: Turbiditet | F23: Fargetall | G23: Koliforme bakterier | H23: E.Coli | I23: Intestinale enterokokker
A24: Hovden bas | B24: 43969 | C24: Eikelandsosen VV, Skjelbreid | D24: 6.6 | E24: 0.1 | F24: 2 | G24: 0 | H24: 0 | I24: 0
A25: Ropeidet | B25: 43956 | C25: Eikelandsosen VV, Skjelbreid | D25: 9.2 | E25: 0.1 | F25: 2 | G25: 0 | H25: 0 | I25: 0

Sheet Holmefjord vba
A4: Oppsummering vannkvalitet Holmefjord vba
A6: Alle forsyningsområder | D6: ='Os vba'!D6 -> Mai 2020
A8: Bakteriologisk drikkevannskvalitet
A9: Parameter | B9: Grenseverdi | C9: Tiltaksgrense | D9: Antall analyser | E9: Antall godkjente
A10: E.Coli (ant/100 ml) | B10: 0 | D10: =COUNT(H24:H90) -> 1 | E10: =COUNTIF(H24:H90,"=0") -> 1
A11: Intestinale enterokokker (ant/100 ml) | B11: 0 | D11: =COUNT(I24:I90) -> 1 | E11: =COUNTIF(I24:I90,"=0") -> 1
A12: Koliforme bakterier (ant/100 ml) | C12: 0 | D12: =COUNT(G24:G90) -> 1 | E12: =COUNTIF(G24:G90,"=0") -> 1
A14: Fysisk-/kjemisk drikkevannskvalitet
A15: Parameter | B15: Grenseverdi | C15: Tiltaksgrense | D15: Antall analyser | E15: Resultat gjennomsnitt
A16: Farge (mg Pt/l) | B16: Akseptabel for abb, maks 20 | C16: Ingen unormal endring | D16: =COUNT(F24:F90) -> 1 | E16: =AVERAGE(F24:F90) -> 2
A17: Turbiditet (FNU) | B17: Vba: 1, Nett: Akseptabel for abb. | C17: Ingen unormal endring | D17: =COUNT(E24:E90) -> 1 | E17: =AVERAGE(E24:E90) -> 0.12
A18: Surhetsgrad (pH) | C18: 6,5 - 9,5 | D18: =COUNT(D24:D90) -> 1 | E18: =AVERAGE(D24:D90) -> 8
A19: Merknad
A23: Sted | B23: Dato | C23: Vannbehandlingsanlegg | D23: pH | E23: Turbiditet | F23: Fargetall | G23: Koliforme bakterier | H23: E.Coli | I23: Intestinale enterokokker
A24: Holmefjord barneskole | B24: 43969 | C24: Holmefjord VV | D24: 8 | E24: 0.12 | F24: 2 | G24: 0 | H24: 0 | I24: 0
