Workbook

Sheet Alle
A4: Oppsummering vannkvalitet Bjørnafjorden kommune
A6: Alle forsyningsområder | D6: November 2020
A8: Bakteriologisk drikkevannskvalitet
A9: Parameter | B9: Grenseverdi | C9: Tiltaksgrense | D9: Antall analyser | E9: Antall godkjente
A10: E.Coli (ant/100 ml) | B10: 0 | D10: =COUNT(H24:H69) -> 33 | E10: =COUNTIF(H24:H69,"=0") -> 33
A11: Intestinale enterokokker (ant/100 ml) | B11: 0 | D11: =COUNT(I24:I69) -> 33 | E11: =COUNTIF(I24:I69,"=0") -> 33
A12: Koliforme bakterier (ant/100 ml) | C12: 0 | D12: =COUNT(G24:G69) -> 33 | E12: =COUNTIF(G24:G69,"=0") -> 33
A14: Fysisk-/kjemisk drikkevannskvalitet
A15: Parameter | B15: Grenseverdi | C15: Tiltaksgrense | D15: Antall analyser | E15: Resultat gjennomsnitt
A16: Farge (mg Pt/l) | B16: Akseptabel for abb, maks 20 | C16: Ingen unormal endring | D16: =COUNT(F24:F69) -> 33 | E16: =AVERAGE(F24:F69) -> 5.0909091
A17: Turbiditet (FNU) | B17: Vba: 1, Nett: Akseptabel for abb. | C17: Ingen unormal endring | D17: =COUNT(E24:E69) -> 33 | E17: =AVERAGE(E24:E69) -> 0.24424242
A18: Surhetsgrad (pH) | C18: 6,5 - 9,5 | D18: =COUNT(D24:D69) -> 33 | E18: =AVERAGE(D24:D69) -> 7.5181818
A19: Merknad
A23: Sted | B23: Dato | C23: Vannbehandlingsanlegg | D23: pH | E23: Turbiditet | F23: Fargetall | G23: Koliforme bakterier | H23: E.Coli | I23: Intestinale enterokokker
A24: Os vba, rentvann | B24: 44138 | C24: Os VBA | D24: 7.2 | E24: 0.11 | F24: 2 | G24: 0 | H24: 0 | I24: 0
B25: 44145 | C25: Os VBA | D25: 6.6 | E25: 0.18 | F25: 2 | G25: 0 | H25: 0 | I25: 0
B26: 44152 | C26: Os VBA | D26: 7.3 | E26: 0.11 | F26: 2 | G26: 0 | H26: 0 | I26: 0
B27: 44159 | C27: Os VBA | D27: 6.9 | E27: 0.21 | F27: 2 | G27: 0 | H27: 0 | I27: 0
A28: Varåsen basseng, ut | B28: 44138 | C28: Os VBA | D28: 7.2 | E28: 0.12 | F28: 2 | G28: 0 | H28: 0 | I28: 0
B29: 44152 | C29: Os VBA | D29: 7.3 | E29: 0.18 | F29: 3 | G29: 0 | H29: 0 | I29: 0
A30: Os helsestasjon | B30: 44138 | C30: Os VBA | D30: 7.7 | E30: 0.13 | F30: 2 | G30: 0 | H30: 0 | I30: 0
B31: 44145 | C31: Os VBA | D31: 7.9 | E31: 0.4 | F31: 3 | G31: 0 | H31: 0 | I31: 0
B32: 44152 | C32: Os VBA | D32: 8 | E32: 0.12 | F32: 3 | G32: 0 | H32: 0 | I32: 0
B33: 44159 | C33: Os VBA | D33: 7.3 | E33: 0.19 | F33: 2 | G33: 0 | H33: 0 | I33: 0
A34: Sankthanshaugen basseng | B34: 44159 | C34: Os VBA | D34: 7.7 | E34: 0.2 | F34: 4 | G34: 0 | H34: 0 | I34: 0
A35: Luranetunet | B35: 44159 | C35: Os VBA | D35: 7.5 | E35: 0.22 | F35: 2 | G35: 0 | H35: 0 | I35: 0
A36: Bjørnen basseng | B36: 44152 | C36: Os VBA | D36: 7.8 | E36: 0.18 | F36: 2 | G36: 0 | H36: 0 | I36: 0
A37: Sundøy (Triton) | B37: 44138 | C37: Os VBA | D37: 8.6 | E37: 0.11 | F37: 2 | G37: 0 | H37: 0 | I37: 0
B38: 44152 | C38: Os VBA | D38: 8.7 | E38: 0.17 | F38: 3 | G38: 0 | H38: 0 | I38: 0
A39: Søre Øyane skule | B39: 44152 | C39: Os VBA | D39: 9.1 | E39: 0.22 | F39: 4 | G39: 0 | H39: 0 | I39: 0
A40: Hagavik kysthospital | B40: 44138 | C40: Os VBA | D40: 8.2 | E40: 0.12 | F40: 2 | G40: 0 | H40: 0 | I40: 0
B41: 44145 | C41: Os VBA | D41: 8.4 | E41: 0.19 | F41: 3 | G41: 0 | H41: 0 | I41: 0
B42: 44152 | C42: Os VBA | D42: 8.4 | E42: 0.14 | F42: 3 | G42: 0 | H42: 0 | I42: 0
B43: 44159 | C43: Os VBA | D43: 7.7 | E43: 0.19 | F43: 2 | G43: 0 | H43: 0 | I43: 0
A44: Askvik basseng | B44: 44145 | C44: Os VBA | D44: 8.1 | E44: 0.27 | F44: 4 | G44: 0 | H44: 0 | I44: 0
A45: Tømmernes bro | B45: 44138 | C45: Os VBA | D45: 7.3 | E45: 0.17 | F45: 2 | G45: 0 | H45: 0 | I45: 0
A46: Lysekloster barnehage | B46: 44138 | C46: Søvik VBA | D46: 6.8 | E46: 0.27 | F46: 23 | G46: 0 | H46: 0 | I46: 0
B47: 44145 | C47: Søvik VBA | D47: 7 | E47: 0.36 | F47: 25 | G47: 0 | H47: 0 | I47: 0
B48: 44152 | C48: Søvik VBA | D48: 7 | E48: 0.26 | F48: 23 | G48: 0 | H48: 0 | I48: 0
B49: 44159 | C49: Søvik VBA | D49: 7 | E49: 0.34 | F49: 23 | G49: 0 | H49: 0 | I49: 0
...

Sheet Os vba
A4: Oppsummering vannkvalitet Os vba
A6: Alle forsyningsområder | D6: November 2020
A8: Bakteriologisk drikkevannskvalitet
A9: Parameter | B9: Grenseverdi | C9: Tiltaksgrense | D9: Antall analyser | E9: Antall godkjente
A10: E.Coli (ant/100 ml) | B10: 0 | D10: =COUNT(H24:H90) -> 22 | E10: =COUNTIF(H24:H90,"=0") -> 22
A11: Intestinale enterokokker (ant/100 ml) | B11: 0 | D11: =COUNT(I24:I90) -> 22 | E11: =COUNTIF(I24:I90,"=0") -> 22
A12: Koliforme bakterier (ant/100 ml) | C12: 0 | D12: =COUNT(G24:G90) -> 22 | E12: =COUNTIF(G24:G90,"=0") -> 22
A14: Fysisk-/kjemisk drikkevannskvalitet
A15: Parameter | B15: Grenseverdi | C15: Tiltaksgrense | D15: Antall analyser | E15: Resultat gjennomsnitt
A16: Farge (mg Pt/l) | B16: Akseptabel for abb, maks 20 | C16: Ingen unormal endring | D16: =COUNT(F24:F90) -> 22 | E16: =AVERAGE(F24:F90) -> 2.5454545
A17: Turbiditet (FNU) | B17: Vba: 1, Nett: Akseptabel for abb. | C17: Ingen unormal endring | D17: =COUNT(E24:E90) -> 22 | E17: =AVERAGE(E24:E90) -> 0.17863636
A18: Surhetsgrad (pH) | C18: 6,5 - 9,5 | D18: =COUNT(D24:D90) -> 22 | E18: =AVERAGE(D24:D90) -> 7.7681818
A19: Merknad
A23: Sted | B23: Dato | C23: Vannbehandlingsanlegg | D23: pH | E23: Turbiditet | F23: Fargetall | G23: Koliforme bakterier | H23: E.Coli | I23: Intestinale enterokokker
A24: Os vba, rentvann | B24: 44138 | C24: Os VBA | D24: 7.2 | E24: 0.11 | F24: 2 | G24: 0 | H24: 0 | I24: 0
B25: 44145 | C25: Os VBA | D25: 6.6 | E25: 0.18 | F25: 2 | G25: 0 | H25: 0 | I25: 0
B26: 44152 | C26: Os VBA | D26: 7.3 | E26: 0.11 | F26: 2 | G26: 0 | H26: 0 | I26: 0
B27: 44159 | C27: Os VBA | D27: 6.9 | E27: 0.21 | F27: 2 | G27: 0 | H27: 0 | I27: 0
A28: Varåsen basseng, ut | B28: 44138 | C28: Os VBA | D28: 7.2 | E28: 0.12 | F28: 2 | G28: 0 | H28: 0 | I28: 0
B29: 44152 | C29: Os VBA | D29: 7.3 | E29: 0.18 | F29: 3 | G29: 0 | H29: 0 | I29: 0
A30: Os helsestasjon | B30: 44138 | C30: Os VBA | D30: 7.7 | E30: 0.13 | F30: 2 | G30: 0 | H30: 0 | I30: 0
B31: 44145 | C31: Os VBA | D31: 7.9 | E31: 0.4 | F31: 3 | G31: 0 | H31: 0 | I31: 0
B32: 44152 | C32: Os VBA | D32: 8 | E32: 0.12 | F32: 3 | G32: 0 | H32: 0 | I32: 0
B33: 44159 | C33: Os VBA | D33: 7.3 | E33: 0.19 | F33: 2 | G33: 0 | H33: 0 | I33: 0
A34: Sankthanshaugen basseng | B34: 44159 | C34: Os VBA | D34: 7.7 | E34: 0.2 | F34: 4 | G34: 0 | H34: 0 | I34: 0
A35: Luranetunet | B35: 44159 | C35: Os VBA | D35: 7.5 | E35: 0.22 | F35: 2 | G35: 0 | H35: 0 | I35: 0
A36: Bjørnen basseng | B36: 44152 | C36: Os VBA | D36: 7.8 | E36: 0.18 | F36: 2 | G36: 0 | H36: 0 | I36: 0
A37: Sundøy (Triton) | B37: 44138 | C37: Os VBA | D37: 8.6 | E37: 0.11 | F37: 2 | G37: 0 | H37: 0 | I37: 0
B38: 44152 | C38: Os VBA | D38: 8.7 | E38: 0.17 | F38: 3 | G38: 0 | H38: 0 | I38: 0
A39: Søre Øyane skule | B39: 44152 | C39: Os VBA | D39: 9.1 | E39: 0.22 | F39: 4 | G39: 0 | H39: 0 | I39: 0
A40: Hagavik kysthospital | B40: 44138 | C40: Os VBA | D40: 8.2 | E40: 0.12 | F40: 2 | G40: 0 | H40: 0 | I40: 0
B41: 44145 | C41: Os VBA | D41: 8.4 | E41: 0.19 | F41: 3 | G41: 0 | H41: 0 | I41: 0
B42: 44152 | C42: Os VBA | D42: 8.4 | E42: 0.14 | F42: 3 | G42: 0 | H42: 0 | I42: 0
B43: 44159 | C43: Os VBA | D43: 7.7 | E43: 0.19 | F43: 2 | G43: 0 | H43: 0 | I43: 0
A44: Askvik basseng | B44: 44145 | C44: Os VBA | D44: 8.1 | E44: 0.27 | F44: 4 | G44: 0 | H44: 0 | I44: 0
A45: Tømmernes bro | B45: 44138 | C45: Os VBA | D45: 7.3 | E45: 0.17 | F45: 2 | G45: 0 | H45: 0 | I45: 0

Sheet Søvik vba
A4: Oppsummering vannkvalitet Søvik vba
A6: Alle forsyningsområder | D6: ='Os vba'!D6 -> November 2020
A8: Bakteriologisk drikkevannskvalitet
A9: Parameter | B9: Grenseverdi | C9: Tiltaksgrense | D9: Antall analyser | E9: Antall godkjente
A10: E.Coli (ant/100 ml) | B10: 0 | D10: =COUNT(H24:H90) -> 4 | E10: =COUNTIF(H24:H90,"=0") -> 4
A11: Intestinale enterokokker (ant/100 ml) | B11: 0 | D11: =COUNT(I24:I90) -> 4 | E11: =COUNTIF(I24:I90,"=0") -> 4
A12: Koliforme bakterier (ant/100 ml) | C12: 0 | D12: =COUNT(G24:G90) -> 4 | E12: =COUNTIF(G24:G90,"=0") -> 4
A14: Fysisk-/kjemisk drikkevannskvalitet
A15: Parameter | B15: Grenseverdi | C15: Tiltaksgrense | D15: Antall analyser | E15: Resultat gjennomsnitt
A16: Farge (mg Pt/l) | B16: Akseptabel for abb, maks 20 | C16: Ingen unormal endring | D16: =COUNT(F24:F90) -> 4 | E16: =AVERAGE(F24:F90) -> 23.5
A17: Turbiditet (FNU) | B17: Vba: 1, Nett: Akseptabel for abb. | C17: Ingen unormal endring | D17: =COUNT(E24:E90) -> 4 | E17: =AVERAGE(E24:E90) -> 0.3075
A18: Surhetsgrad (pH) | C18: 6,5 - 9,5 | D18: =COUNT(D24:D90) -> 4 | E18: =AVERAGE(D24:D90) -> 6.95
A19: Merknad
A23: Sted | B23: Dato | C23: Vannbehandlingsanlegg | D23: pH | E23: Turbiditet | F23: Fargetall | G23: Koliforme bakterier | H23: E.Coli | I23: Intestinale enterokokker
A24: Lysekloster barnehage | B24: 44138 | C24: Søvik VBA | D24: 6.8 | E24: 0.27 | F24: 23 | G24: 0 | H24: 0 | I24: 0
B25: 44145 | C25: Søvik VBA | D25: 7 | E25: 0.36 | F25: 25 | G25: 0 | H25: 0 | I25: 0
B26: 44152 | C26: Søvik VBA | D26: 7 | E26: 0.26 | F26: 23 | G26: 0 | H26: 0 | I26: 0
B27: 44159 | C27: Søvik VBA | D27: 7 | E27: 0.34 | F27: 23 | G27: 0 | H27: 0 | I27: 0

Sheet Hegglandsdalen vba
A4: Oppsummering vannkvalitet Hegglandsdalen vba
A6: Alle forsyningsområder | D6: ='Os vba'!D6 -> November 2020
A8: Bakteriologisk drikkevannskvalitet
A9: Parameter | B9: Grenseverdi | C9: Tiltaksgrense | D9: Antall analyser | E9: Antall godkjente
A10: E.Coli (ant/100 ml) | B10: 0 | D10: =COUNT(H24:H90) -> 4 | E10: =COUNTIF(H24:H90,"=0") -> 4
A11: Intestinale enterokokker (ant/100 ml) | B11: 0 | D11: =COUNT(I24:I90) -> 4 | E11: =COUNTIF(I24:I90,"=0") -> 4
A12: Koliforme bakterier (ant/100 ml) | C12: 0 | D12: =COUNT(G24:G90) -> 4 | E12: =COUNTIF(G24:G90,"=0") -> 4
A14: Fysisk-/kjemisk drikkevannskvalitet
A15: Parameter | B15: Grenseverdi | C15: Tiltaksgrense | D15: Antall analyser | E15: Resultat gjennomsnitt
A16: Farge (mg Pt/l) | B16: Akseptabel for abb, maks 20 | C16: Ingen unormal endring | D16: =COUNT(F24:F90) -> 4 | E16: =AVERAGE(F24:F90) -> 2.75
A17: Turbiditet (FNU) | B17: Vba: 1, Nett: Akseptabel for abb. | C17: Ingen unormal endring | D17: =COUNT(E24:E90) -> 4 | E17: =AVERAGE(E24:E90) -> 0.61
A18: Surhetsgrad (pH) | C18: 6,5 - 9,5 | D18: =COUNT(D24:D90) -> 4 | E18: =AVERAGE(D24:D90) -> 7.5
A19: Merknad
A23: Sted | B23: Dato | C23: Vannbehandlingsanlegg | D23: pH | E23: Turbiditet | F23: Fargetall | G23: Koliforme bakterier | H23: E.Coli | I23: Intestinale enterokokker
A24: Hegglandsdalen skole,rentvann | B24: 44138 | C24: Hegglandsdalen | D24: 7.4 | E24: 0.87 | F24: 2 | G24: 0 | H24: 0 | I24: 0
B25: 44145 | C25: Hegglandsdalen | D25: 7.5 | E25: 0.25 | F25: 3 | G25: 0 | H25: 0 | I25: 0
B26: 44152 | C26: Hegglandsdalen | D26: 7.5 | E26: 0.88 | F26: 2 | G26: 0 | H26: 0 | I26: 0
B27: 44159 | C27: Hegglandsdalen | D27: 7.6 | E27: 0.44 | F27: 4 | G27: 0 | H27: 0 | I27: 0

Sheet Helland vba
A4: Oppsummering vannkvalitet Helland vba
A6: Alle forsyningsområder | D6: ='Os vba'!D6 -> November 2020
A8: Bakteriologisk drikkevannskvalitet
A9: Parameter | B9: Grenseverdi | C9: Tiltaksgrense | D9: Antall analyser | E9: Antall godkjente
A10: E.Coli (ant/100 ml) | B10: 0 | D10: =COUNT(H24:H90) -> 2 | E10: =COUNTIF(H24:H90,"=0") -> 2
A11: Intestinale enterokokker (ant/100 ml) | B11: 0 | D11: =COUNT(I24:I90) -> 2 | E11: =COUNTIF(I24:I90,"=0") -> 2
A12: Koliforme bakterier (ant/100 ml) | C12: 0 | D12: =COUNT(G24:G90) -> 2 | E12: =COUNTIF(G24:G90,"=0") -> 2
A14: Fysisk-/kjemisk drikkevannskvalitet
A15: Parameter | B15: Grenseverdi | C15: Tiltaksgrense | D15: Antall analyser | E15: Resultat gjennomsnitt
A16: Farge (mg Pt/l) | B16: Akseptabel for abb, maks 20 | C16: Ingen unormal endring | D16: =COUNT(F24:F90) -> 2 | E16: =AVERAGE(F24:F90) -> 2.5
A17: Turbiditet (FNU) | B17: Vba: 1, Nett: Akseptabel for abb. | C17: Ingen unormal endring | D17: =COUNT(E24:E90) -> 2 | E17: =AVERAGE(E24:E90) -> 0.165
A18: Surhetsgrad (pH) | C18: 6,5 - 9,5 | D18: =COUNT(D24:D90) -> 2 | E18: =AVERAGE(D24:D90) -> 6.6
A19: Merknad
A23: Sted | B23: Dato | C23: Vannbehandlingsanlegg | D23: pH | E23: Turbiditet | F23: Fargetall | G23: Koliforme bakterier | H23: E.Coli | I23: Intestinale enterokokker
A24: Kommunehuset | B24: 44152 | C24: Eikelandsosen VV, Helland vba | D24: 6.9 | E24: 0.22 | F24: 3 | G24: 0 | H24: 0 | I24: 0
A25: Lager Heiane | B25: 44138 | C25: Eikelandsosen VV, Helland vba | D25: 6.3 | E25: 0.11 | F25: 2 | G25: 0 | H25: 0 | I25: 0

Sheet Skjelbreid vba
A4: Oppsummering vannkvalitet Holmefjord vba
A6: Alle forsyningsområder | D6: ='Os vba'!D6 -> November 2020
A8: Bakteriologisk drikkevannskvalitet
A9: Parameter | B9: Grenseverdi | C9: Tiltaksgrense | D9: Antall analyser | E9: Antall godkjente
A10: E.Coli (ant/100 ml) | B10: 0 | D10: =COUNT(H26:H90) -> 0 | E10: =COUNTIF(H26:H90,"=0") -> 0
A11: Intestinale enterokokker (ant/100 ml) | B11: 0 | D11: =COUNT(I26:I90) -> 0 | E11: =COUNTIF(I26:I90,"=0") -> 0
A12: Koliforme bakterier (ant/100 ml) | C12: 0 | D12: =COUNT(G26:G90) -> 0 | E12: =COUNTIF(G26:G90,"=0") -> 0
A14: Fysisk-/kjemisk drikkevannskvalitet
A15: Parameter | B15: Grenseverdi | C15: Tiltaksgrense | D15: Antall analyser | E15: Resultat gjennomsnitt
A16: Farge (mg Pt/l) | B16: Akseptabel for abb, maks 20 | C16: Ingen unormal endring | D16: =COUNT(F26:F90) -> 0
A17: Turbiditet (FNU) | B17: Vba: 1, Nett: Akseptabel for abb. | C17: Ingen unormal endring | D17: =COUNT(E26:E90) -> 0
A18: Surhetsgrad (pH) | C18: 6,5 - 9,5 | D18: =COUNT(D26:D90) -> 0
A19: Merknad
A23: Sted | B23: Dato | C23: Vannbehandlingsanlegg | D23: pH | E23: Turbiditet | F23: Fargetall | G23: Koliforme bakterier | H23: E.Coli | I23: Intestinale enterokokker
A24: Ropeidet | B24: 44152 | C24: Eikelandsosen VV, Skjelbreid vba | D24: 6.2 | E24: 0.13 | F24: 2 | G24: 0 | H24: 0 | I24: 0

Sheet Holmefjord vba
A4: Oppsummering vannkvalitet Holmefjord vba
A6: Alle forsyningsområder | D6: ='Os vba'!D6 -> November 2020
A8: Bakteriologisk drikkevannskvalitet
A9: Parameter | B9: Grenseverdi | C9: Tiltaksgrense | D9: Antall analyser | E9: Antall godkjente
A10: E.Coli (ant/100 ml) | B10: 0 | D10: =COUNT(H24:H90) -> 0 | E10: =COUNTIF(H24:H90,"=0") -> 0
A11: Intestinale enterokokker (ant/100 ml) | B11: 0 | D11: =COUNT(I24:I90) -> 0 | E11: =COUNTIF(I24:I90,"=0") -> 0
A12: Koliforme bakterier (ant/100 ml) | C12: 0 | D12: =COUNT(G24:G90) -> 0 | E12: =COUNTIF(G24:G90,"=0") -> 0
A14: Fysisk-/kjemisk drikkevannskvalitet
A15: Parameter | B15: Grenseverdi | C15: Tiltaksgrense | D15: Antall analyser | E15: Resultat gjennomsnitt
A16: Farge (mg Pt/l) | B16: Akseptabel for abb, maks 20 | C16: Ingen unormal endring | D16: =COUNT(F24:F90) -> 0
A17: Turbiditet (FNU) | B17: Vba: 1, Nett: Akseptabel for abb. | C17: Ingen unormal endring | D17: =COUNT(E24:E90) -> 0
A18: Surhetsgrad (pH) | C18: 6,5 - 9,5 | D18: =COUNT(D24:D90) -> 0
A19: Merknad
A23: Sted | B23: Dato | C23: Vannbehandlingsanlegg | D23: pH | E23: Turbiditet | F23: Fargetall | G23: Koliforme bakterier | H23: E.Coli | I23: Intestinale enterokokker
