Workbook

Sheet Alle
A1: Oppsummering vannkvalitet Bjørnafjorden kommune
A3: Alle forsyningsområder | E3: Mars 2021
A5: Bakteriologisk drikkevannskvalitet
A6: Parameter | B6: Grenseverdi | C6: Tiltaksgrense | D6: Antall analyser | E6: Antall godkjente
A7: E.Coli (ant/100 ml) | B7: 0 | C7: - | D7: =COUNT(H21:H78) -> 37 | E7: =COUNTIF(H21:H78,"=0") -> 37
A8: Intestinale enterokokker (ant/100 ml) | B8: 0 | C8: - | D8: =COUNT(I21:I78) -> 37 | E8: =COUNTIF(I21:I78,"=0") -> 37
A9: Koliforme bakterier (ant/100 ml) | B9: - | C9: 0 | D9: =COUNT(G21:G78) -> 37 | E9: =COUNTIF(G21:G78,"=0") -> 37
A10: Fysisk-/kjemisk drikkevannskvalitet
A11: Parameter | B11: Grenseverdi | C11: Tiltaksgrense | D11: Antall analyser | E11: Resultat gjennomsnitt
A12: Farge (mg Pt/l) | B12: Akseptabel for abb, maks 20 | C12: Ingen unormal endring | D12: =COUNT(F21:F78) -> 31 | E12: =AVERAGE(F21:F78) -> 4.1935484
A13: Turbiditet (FNU) | B13: Vba: 1, Nett: Akseptabel for abb. | C13: Ingen unormal endring | D13: =COUNT(E21:E78) -> 37 | E13: =AVERAGE(E21:E78) -> 0.15621622
A14: Surhetsgrad (pH) | B14: - | C14: 6,5 - 9,5 | D14: =COUNT(D21:D78) -> 37 | E14: =AVERAGE(D21:D78) -> 7.5675676
A15: Merknad: Det er ikke analysert for fargetall i prøver tatt i påskeuken (prøvedato 29.03.21).
A19: Sted | B19: Dato | C19: Vannbehandlingsanlegg | D19: Surhet | E19: Turbiditet | F19: Fargetall | G19: Koliforme bakterier | H19: E.Coli | I19: Intestinale enterokokker
D20: pH | E20: FNU | F20: mg Pt/l | G20: ant/100 ml | H20: ant/100 ml | I20: ant/100 ml
A21: Os vba, rentvann | B21: 44257 | C21: Os VBA | D21: 7.9 | E21: 0.1 | F21: 3 | G21: 0 | H21: 0 | I21: 0
B22: 44264 | C22: Os VBA | D22: 7.2 | E22: 0.1 | F22: 2 | G22: 0 | H22: 0 | I22: 0
B23: 44271 | C23: Os VBA | D23: 7.2 | E23: 0.1 | F23: 2 | G23: 0 | H23: 0 | I23: 0
B24: 44278 | C24: Os VBA | D24: 7.2 | E24: 0.1 | F24: 2 | G24: 0 | H24: 0 | I24: 0
B25: 44284 | C25: Os VBA | D25: 8 | E25: 0.1 | G25: 0 | H25: 0 | I25: 0
A26: Varåsen basseng, ut | B26: 44264 | C26: Os VBA | D26: 7.2 | E26: 0.1 | F26: 2 | G26: 0 | H26: 0 | I26: 0
B27: 44278 | C27: Os VBA | D27: 7.4 | E27: 0.1 | F27: 2 | G27: 0 | H27: 0 | I27: 0
A28: Os helsestasjon | B28: 44257 | C28: Os VBA | D28: 7.6 | E28: 0.12 | F28: 2 | G28: 0 | H28: 0 | I28: 0
B29: 44264 | C29: Os VBA | D29: 7.3 | E29: 0.14 | F29: 2 | G29: 0 | H29: 0 | I29: 0
B30: 44271 | C30: Os VBA | D30: 7.6 | E30: 0.18 | F30: 2 | G30: 0 | H30: 0 | I30: 0
B31: 44278 | C31: Os VBA | D31: 7.5 | E31: 0.1 | F31: 2 | G31: 0 | H31: 0 | I31: 0
B32: 44284 | C32: Os VBA | D32: 7.9 | E32: 0.1 | G32: 0 | H32: 0 | I32: 0
A33: Sankthanshaugen basseng | B33: 44271 | C33: Os VBA | D33: 7.9 | E33: 0.12 | F33: 3 | G33: 0 | H33: 0 | I33: 0
A34: Luranetunet | B34: 44271 | C34: Os VBA | D34: 7.7 | E34: 0.13 | F34: 2 | G34: 0 | H34: 0 | I34: 0
A35: Bjørnen basseng | B35: 44271 | C35: Os VBA | D35: 8.2 | E35: 0.2 | F35: 2 | G35: 0 | H35: 0 | I35: 0
A36: Sundøy (Triton) | B36: 44264 | C36: Os VBA | D36: 7.3 | E36: 0.1 | F36: 2 | G36: 0 | H36: 0 | I36: 0
B37: 44278 | C37: Os VBA | D37: 8.1 | E37: 0.1 | F37: 2 | G37: 0 | H37: 0 | I37: 0
A38: Søre Øyane skule | B38: 44257 | C38: Os VBA | D38: 8.6 | E38: 0.28 | F38: 3 | G38: 0 | H38: 0 | I38: 0
B39: 44284 | C39: Os VBA | D39: 8.6 | E39: 0.1 | G39: 0 | H39: 0 | I39: 0
A40: Hagavik kysthospital | B40: 44257 | C40: Os VBA | D40: 8 | E40: 0.11 | F40: 3 | G40: 0 | H40: 0 | I40: 0
B41: 44264 | C41: Os VBA | D41: 7.4 | E41: 0.11 | F41: 2 | G41: 0 | H41: 0 | I41: 0
B42: 44271 | C42: Os VBA | D42: 7.8 | E42: 0.1 | F42: 2 | G42: 0 | H42: 0 | I42: 0
B43: 44278 | C43: Os VBA | D43: 7.8 | E43: 0.1 | F43: 2 | G43: 0 | H43: 0 | I43: 0
B44: 44284 | C44: Os VBA | D44: 8.2 | E44: 0.13 | G44: 0 | H44: 0 | I44: 0
A45: Askvik basseng | B45: 44257 | C45: Os VBA | D45: 7.9 | E45: 0.23 | F45: 2 | G45: 0 | H45: 0 | I45: 0
...

Sheet Os vba
A1: Oppsummering vannkvalitet Os VBA | E1: Mars 2021
A3: Bakteriologisk drikkevannskvalitet
A4: Parameter | B4: Grenseverdi | C4: Tiltaksgrense | D4: Antall analyser | E4: Antall godkjente
A5: E.Coli (ant/100 ml) | B5: 0 | C5: - | D5: =COUNT(H18:H74) -> 27 | E5: =COUNTIF(H18:H74,"=0") -> 27
A6: Intestinale enterokokker (ant/100 ml) | B6: 0 | C6: - | D6: =COUNT(I18:I74) -> 27 | E6: =COUNTIF(I18:I74,"=0") -> 27
A7: Koliforme bakterier (ant/100 ml) | B7: - | C7: 0 | D7: =COUNT(G18:G74) -> 27 | E7: =COUNTIF(G18:G74,"=0") -> 27
A8: Fysisk-/kjemisk drikkevannskvalitet
A9: Parameter | B9: Grenseverdi | C9: Tiltaksgrense | D9: Antall analyser | E9: Resultat gjennomsnitt
A10: Farge (mg Pt/l) | B10: Akseptabel for abb, maks 20 | C10: Ingen unormal endring | D10: =COUNT(F18:F74) -> 22 | E10: =AVERAGE(F18:F74) -> 2.1818182
A11: Turbiditet (FNU) | B11: Vba: 1, Nett: Akseptabel for abb. | C11: Ingen unormal endring | D11: =COUNT(E18:E74) -> 27 | E11: =AVERAGE(E18:E74) -> 0.13185185
A12: Surhetsgrad (pH) | B12: - | C12: 6,5 - 9,5 | D12: =COUNT(D18:D74) -> 27 | E12: =AVERAGE(D18:D74) -> 7.7333333
A13: Merknad: Det er ikke analysert for fargetall i prøver tatt i påskeuken (prøvedato 29.03.21).
A16: Sted | B16: Dato | C16: Vannbehandlingsanlegg | D16: Surhet | E16: Turbiditet | F16: Fargetall | G16: Koliforme bakterier | H16: E.Coli | I16: Intestinale enterokokker
D17: pH | E17: FNU | F17: mg Pt/l | G17: ant/100 ml | H17: ant/100 ml | I17: ant/100 ml
A18: Os vba, rentvann | B18: 44257 | C18: Os VBA | D18: 7.9 | E18: 0.1 | F18: 3 | G18: 0 | H18: 0 | I18: 0
B19: 44264 | C19: Os VBA | D19: 7.2 | E19: 0.1 | F19: 2 | G19: 0 | H19: 0 | I19: 0
B20: 44271 | C20: Os VBA | D20: 7.2 | E20: 0.1 | F20: 2 | G20: 0 | H20: 0 | I20: 0
B21: 44278 | C21: Os VBA | D21: 7.2 | E21: 0.1 | F21: 2 | G21: 0 | H21: 0 | I21: 0
B22: 44284 | C22: Os VBA | D22: 8 | E22: 0.1 | G22: 0 | H22: 0 | I22: 0
A23: Varåsen basseng, ut | B23: 44264 | C23: Os VBA | D23: 7.2 | E23: 0.1 | F23: 2 | G23: 0 | H23: 0 | I23: 0
B24: 44278 | C24: Os VBA | D24: 7.4 | E24: 0.1 | F24: 2 | G24: 0 | H24: 0 | I24: 0
A25: Os helsestasjon | B25: 44257 | C25: Os VBA | D25: 7.6 | E25: 0.12 | F25: 2 | G25: 0 | H25: 0 | I25: 0
B26: 44264 | C26: Os VBA | D26: 7.3 | E26: 0.14 | F26: 2 | G26: 0 | H26: 0 | I26: 0
B27: 44271 | C27: Os VBA | D27: 7.6 | E27: 0.18 | F27: 2 | G27: 0 | H27: 0 | I27: 0
B28: 44278 | C28: Os VBA | D28: 7.5 | E28: 0.1 | F28: 2 | G28: 0 | H28: 0 | I28: 0
B29: 44284 | C29: Os VBA | D29: 7.9 | E29: 0.1 | G29: 0 | H29: 0 | I29: 0
A30: Sankthanshaugen basseng | B30: 44271 | C30: Os VBA | D30: 7.9 | E30: 0.12 | F30: 3 | G30: 0 | H30: 0 | I30: 0
A31: Luranetunet | B31: 44271 | C31: Os VBA | D31: 7.7 | E31: 0.13 | F31: 2 | G31: 0 | H31: 0 | I31: 0
A32: Bjørnen basseng | B32: 44271 | C32: Os VBA | D32: 8.2 | E32: 0.2 | F32: 2 | G32: 0 | H32: 0 | I32: 0
A33: Sundøy (Triton) | B33: 44264 | C33: Os VBA | D33: 7.3 | E33: 0.1 | F33: 2 | G33: 0 | H33: 0 | I33: 0
B34: 44278 | C34: Os VBA | D34: 8.1 | E34: 0.1 | F34: 2 | G34: 0 | H34: 0 | I34: 0
A35: Søre Øyane skule | B35: 44257 | C35: Os VBA | D35: 8.6 | E35: 0.28 | F35: 3 | G35: 0 | H35: 0 | I35: 0
B36: 44284 | C36: Os VBA | D36: 8.6 | E36: 0.1 | G36: 0 | H36: 0 | I36: 0
A37: Hagavik kysthospital | B37: 44257 | C37: Os VBA | D37: 8 | E37: 0.11 | F37: 3 | G37: 0 | H37: 0 | I37: 0
B38: 44264 | C38: Os VBA | D38: 7.4 | E38: 0.11 | F38: 2 | G38: 0 | H38: 0 | I38: 0
B39: 44271 | C39: Os VBA | D39: 7.8 | E39: 0.1 | F39: 2 | G39: 0 | H39: 0 | I39: 0
B40: 44278 | C40: Os VBA | D40: 7.8 | E40: 0.1 | F40: 2 | G40: 0 | H40: 0 | I40: 0
B41: 44284 | C41: Os VBA | D41: 8.2 | E41: 0.13 | G41: 0 | H41: 0 | I41: 0
A42: Askvik basseng | B42: 44257 | C42: Os VBA | D42: 7.9 | E42: 0.23 | F42: 2 | G42: 0 | H42: 0 | I42: 0
A43: Tømmernes bro | B43: 44257 | C43: Os VBA | D43: 7.5 | E43: 0.15 | F43: 2 | G43: 0 | H43: 0 | I43: 0
...

Sheet Søvik vba
A1: Oppsummering vannkvalitet Søvik VBA | E1: ='Os vba'!E1 -> Mars 2021
A4: Bakteriologisk drikkevannskvalitet
A5: Parameter | B5: Grenseverdi | C5: Tiltaksgrense | D5: Antall analyser | E5: Antall godkjente
A6: E.Coli (ant/100 ml) | B6: 0 | C6: - | D6: =COUNT(H19:H52) -> 5 | E6: =COUNTIF(H19:H52,"=0") -> 5
A7: Intestinale enterokokker (ant/100 ml) | B7: 0 | C7: - | D7: =COUNT(I19:I52) -> 5 | E7: =COUNTIF(I19:I52,"=0") -> 5
A8: Koliforme bakterier (ant/100 ml) | B8: - | C8: 0 | D8: =COUNT(G19:G52) -> 5 | E8: =COUNTIF(G19:G52,"=0") -> 5
A9: Fysisk-/kjemisk drikkevannskvalitet
A10: Parameter | B10: Grenseverdi | C10: Tiltaksgrense | D10: Antall analyser | E10: Resultat gjennomsnitt
A11: Farge (mg Pt/l) | B11: Akseptabel for abb, maks 20 | C11: Ingen unormal endring | D11: =COUNT(F19:F52) -> 4 | E11: =AVERAGE(F19:F52) -> 18
A12: Turbiditet (FNU) | B12: Vba: 1, Nett: Akseptabel for abb. | C12: Ingen unormal endring | D12: =COUNT(E19:E52) -> 5 | E12: =AVERAGE(E19:E52) -> 0.288
A13: Surhetsgrad (pH) | B13: - | C13: 6,5 - 9,5 | D13: =COUNT(D19:D52) -> 5 | E13: =AVERAGE(D19:D52) -> 6.96
A14: Merknad: Det er ikke analysert for fargetall i prøver tatt i påskeuken (prøvedato 29.03.21).
A17: Sted | B17: Dato | C17: Vannbehandlingsanlegg | D17: Surhet | E17: Turbiditet | F17: Fargetall | G17: Koliforme bakterier | H17: E.Coli | I17: Intestinale enterokokker
D18: pH | E18: FNU | F18: mg Pt/l | G18: ant/100 ml | H18: ant/100 ml | I18: ant/100 ml
A19: Lysekloster barnehage | B19: 44257 | C19: Søvik VBA | D19: 6.9 | E19: 0.28 | F19: 18 | G19: 0 | H19: 0 | I19: 0
B20: 44264 | C20: Søvik VBA | D20: 6.9 | E20: 0.27 | F20: 18 | G20: 0 | H20: 0 | I20: 0
B21: 44271 | C21: Søvik VBA | D21: 6.8 | E21: 0.29 | F21: 18 | G21: 0 | H21: 0 | I21: 0
B22: 44278 | C22: Søvik VBA | D22: 6.9 | E22: 0.28 | F22: 18 | G22: 0 | H22: 0 | I22: 0
B23: 44284 | C23: Søvik VBA | D23: 7.3 | E23: 0.32 | G23: 0 | H23: 0 | I23: 0

Sheet Hegglandsdalen vba
A1: Oppsummering vannkvalitet Hegglandsdalen VBA | E1: ='Os vba'!E1 -> Mars 2021
A4: Bakteriologisk drikkevannskvalitet
A5: Parameter | B5: Grenseverdi | C5: Tiltaksgrense | D5: Antall analyser | E5: Antall godkjente
A6: E.Coli (ant/100 ml) | B6: 0 | C6: - | D6: =COUNT(H19:H49) -> 1 | E6: =COUNTIF(H19:H49,"=0") -> 1
A7: Intestinale enterokokker (ant/100 ml) | B7: 0 | C7: - | D7: =COUNT(I19:I49) -> 1 | E7: =COUNTIF(I19:I49,"=0") -> 1
A8: Koliforme bakterier (ant/100 ml) | B8: - | C8: 0 | D8: =COUNT(G19:G49) -> 1 | E8: =COUNTIF(G19:G49,"=0") -> 1
A9: Fysisk-/kjemisk drikkevannskvalitet
A10: Parameter | B10: Grenseverdi | C10: Tiltaksgrense | D10: Antall analyser | E10: Resultat gjennomsnitt
A11: Farge (mg Pt/l) | B11: Akseptabel for abb, maks 20 | C11: Ingen unormal endring | D11: =COUNT(F19:F49) -> 1 | E11: =AVERAGE(F19:F49) -> 2
A12: Turbiditet (FNU) | B12: Vba: 1, Nett: Akseptabel for abb. | C12: Ingen unormal endring | D12: =COUNT(E19:E49) -> 1 | E12: =AVERAGE(E19:E49) -> 0.35
A13: Surhetsgrad (pH) | B13: - | C13: 6,5 - 9,5 | D13: =COUNT(D19:D49) -> 1 | E13: =AVERAGE(D19:D49) -> 7.7
A14: Merknad
A17: Sted | B17: Dato | C17: Vannbehandlingsanlegg | D17: Surhet | E17: Turbiditet | F17: Fargetall | G17: Koliforme bakterier | H17: E.Coli | I17: Intestinale enterokokker
D18: pH | E18: FNU | F18: mg Pt/l | G18: ant/100 ml | H18: ant/100 ml | I18: ant/100 ml
A19: Hegglandsdalen skole,rentvann | B19: 44278 | C19: Hegglandsdalen VBA | D19: 7.7 | E19: 0.35 | F19: 2 | G19: 0 | H19: 0 | I19: 0

Sheet Helland vba
A1: Oppsummering vannkvalitet Helland VBA | E1: ='Os vba'!E1 -> Mars 2021
A4: Bakteriologisk drikkevannskvalitet
A5: Parameter | B5: Grenseverdi | C5: Tiltaksgrense | D5: Antall analyser | E5: Antall godkjente
A6: E.Coli (ant/100 ml) | B6: 0 | C6: - | D6: =COUNT(H19:H51) -> 3 | E6: =COUNTIF(H19:H51,"=0") -> 3
A7: Intestinale enterokokker (ant/100 ml) | B7: 0 | C7: - | D7: =COUNT(I19:I51) -> 3 | E7: =COUNTIF(I19:I51,"=0") -> 3
A8: Koliforme bakterier (ant/100 ml) | B8: - | C8: 0 | D8: =COUNT(G19:G51) -> 3 | E8: =COUNTIF(G19:G51,"=0") -> 3
A9: Fysisk-/kjemisk drikkevannskvalitet
A10: Parameter | B10: Grenseverdi | C10: Tiltaksgrense | D10: Antall analyser | E10: Resultat gjennomsnitt
A11: Farge (mg Pt/l) | B11: Akseptabel for abb, maks 20 | C11: Ingen unormal endring | D11: =COUNT(F19:F51) -> 3 | E11: =AVERAGE(F19:F51) -> 2
A12: Turbiditet (FNU) | B12: Vba: 1, Nett: Akseptabel for abb. | C12: Ingen unormal endring | D12: =COUNT(E19:E51) -> 3 | E12: =AVERAGE(E19:E51) -> 0.11
A13: Surhetsgrad (pH) | B13: - | C13: 6,5 - 9,5 | D13: =COUNT(D19:D51) -> 3 | E13: =AVERAGE(D19:D51) -> 7.3
A14: Merknad
A17: Sted | B17: Dato | C17: Vannbehandlingsanlegg | D17: Surhet | E17: Turbiditet | F17: Fargetall | G17: Koliforme bakterier | H17: E.Coli | I17: Intestinale enterokokker
D18: pH | E18: FNU | F18: mg Pt/l | G18: ant/100 ml | H18: ant/100 ml | I18: ant/100 ml
A19: Helland vba, rentvann | B19: 44278 | C19: Helland VBA | D19: 7.5 | E19: 0.1 | F19: 2 | G19: 0 | H19: 0 | I19: 0
A20: Kommunehuset | B20: 44264 | C20: Helland VBA | D20: 7.2 | E20: 0.13 | F20: 2 | G20: 0 | H20: 0 | I20: 0
A21: Lager Heiane | B21: 44278 | C21: Helland VBA | D21: 7.2 | E21: 0.1 | F21: 2 | G21: 0 | H21: 0 | I21: 0

Sheet Skjelbreid vba
A1: Oppsummering vannkvalitet Skjelbreid VBA | E1: ='Os vba'!E1 -> Mars 2021
A4: Bakteriologisk drikkevannskvalitet
A5: Parameter | B5: Grenseverdi | C5: Tiltaksgrense | D5: Antall analyser | E5: Antall godkjente
A6: E.Coli (ant/100 ml) | B6: 0 | C6: - | D6: =COUNT(H19:H49) -> 1 | E6: =COUNTIF(H19:H49,"=0") -> 1
A7: Intestinale enterokokker (ant/100 ml) | B7: 0 | C7: - | D7: =COUNT(I19:I49) -> 1 | E7: =COUNTIF(I19:I49,"=0") -> 1
A8: Koliforme bakterier (ant/100 ml) | B8: - | C8: 0 | D8: =COUNT(G19:G49) -> 1 | E8: =COUNTIF(G19:G49,"=0") -> 1
A9: Fysisk-/kjemisk drikkevannskvalitet
A10: Parameter | B10: Grenseverdi | C10: Tiltaksgrense | D10: Antall analyser | E10: Resultat gjennomsnitt
A11: Farge (mg Pt/l) | B11: Akseptabel for abb, maks 20 | C11: Ingen unormal endring | D11: =COUNT(F19:F49) -> 1 | E11: =AVERAGE(F19:F49) -> 2
A12: Turbiditet (FNU) | B12: Vba: 1, Nett: Akseptabel for abb. | C12: Ingen unormal endring | D12: =COUNT(E19:E49) -> 1 | E12: =AVERAGE(E19:E49) -> 0.1
A13: Surhetsgrad (pH) | B13: - | C13: 6,5 - 9,5 | D13: =COUNT(D19:D49) -> 1 | E13: =AVERAGE(D19:D49) -> 6.8
A14: Merknad
A17: Sted | B17: Dato | C17: Vannbehandlingsanlegg | D17: Surhet | E17: Turbiditet | F17: Fargetall | G17: Koliforme bakterier | H17: E.Coli | I17: Intestinale enterokokker
D18: pH | E18: FNU | F18: mg Pt/l | G18: ant/100 ml | H18: ant/100 ml | I18: ant/100 ml
A19: Vengsneset pst | B19: 44264 | C19: Skjelbred VBA | D19: 6.8 | E19: 0.1 | F19: 2 | G19: 0 | H19: 0 | I19: 0

Sheet Holmefjord vba
A1: Oppsummering vannkvalitet Holmefjord VBA | E1: ='Os vba'!E1 -> Mars 2021
A4: Bakteriologisk drikkevannskvalitet
A5: Parameter | B5: Grenseverdi | C5: Tiltaksgrense | D5: Antall analyser | E5: Antall godkjente
A6: E.Coli (ant/100 ml) | B6: 0 | C6: - | D6: =COUNT(H19:H85) -> 0 | E6: =COUNTIF(H19:H85,"=0") -> 0
A7: Intestinale enterokokker (ant/100 ml) | B7: 0 | C7: - | D7: =COUNT(I19:I85) -> 0 | E7: =COUNTIF(I19:I85,"=0") -> 0
A8: Koliforme bakterier (ant/100 ml) | B8: - | C8: 0 | D8: =COUNT(G19:G85) -> 0 | E8: =COUNTIF(G19:G85,"=0") -> 0
A9: Fysisk-/kjemisk drikkevannskvalitet
A10: Parameter | B10: Grenseverdi | C10: Tiltaksgrense | D10: Antall analyser | E10: Resultat gjennomsnitt
A11: Farge (mg Pt/l) | B11: Akseptabel for abb, maks 20 | C11: Ingen unormal endring | D11: =COUNT(F19:F85) -> 0 | E11: =AVERAGE(F19:F85) -> #DIV/0!
A12: Turbiditet (FNU) | B12: Vba: 1, Nett: Akseptabel for abb. | C12: Ingen unormal endring | D12: =COUNT(E19:E85) -> 0 | E12: =AVERAGE(E19:E85) -> #DIV/0!
A13: Surhetsgrad (pH) | B13: - | C13: 6,5 - 9,5 | D13: =COUNT(D19:D85) -> 0 | E13: =AVERAGE(D19:D85) -> #DIV/0!
A14: Merknad
A17: Sted | B17: Dato | C17: Vannbehandlingsanlegg | D17: Surhet | E17: Turbiditet | F17: Fargetall | G17: Koliforme bakterier | H17: E.Coli | I17: Intestinale enterokokker
D18: pH | E18: FNU | F18: mg Pt/l | G18: ant/100 ml | H18: ant/100 ml | I18: ant/100 ml
